BEGIN:VCALENDAR
VERSION:2.0
PRODID:-//Laborers Local 1095 - ECPv6.15.20//NONSGML v1.0//EN
CALSCALE:GREGORIAN
METHOD:PUBLISH
X-WR-CALNAME:Laborers Local 1095
X-ORIGINAL-URL:https://liuna1095.org
X-WR-CALDESC:Events for Laborers Local 1095
REFRESH-INTERVAL;VALUE=DURATION:PT1H
X-Robots-Tag:noindex
X-PUBLISHED-TTL:PT1H
BEGIN:VTIMEZONE
TZID:America/Chicago
BEGIN:DAYLIGHT
TZOFFSETFROM:-0600
TZOFFSETTO:-0500
TZNAME:CDT
DTSTART:20290311T080000
END:DAYLIGHT
BEGIN:STANDARD
TZOFFSETFROM:-0500
TZOFFSETTO:-0600
TZNAME:CST
DTSTART:20291104T070000
END:STANDARD
BEGIN:DAYLIGHT
TZOFFSETFROM:-0600
TZOFFSETTO:-0500
TZNAME:CDT
DTSTART:20300310T080000
END:DAYLIGHT
BEGIN:STANDARD
TZOFFSETFROM:-0500
TZOFFSETTO:-0600
TZNAME:CST
DTSTART:20301103T070000
END:STANDARD
BEGIN:DAYLIGHT
TZOFFSETFROM:-0600
TZOFFSETTO:-0500
TZNAME:CDT
DTSTART:20310309T080000
END:DAYLIGHT
BEGIN:STANDARD
TZOFFSETFROM:-0500
TZOFFSETTO:-0600
TZNAME:CST
DTSTART:20311102T070000
END:STANDARD
END:VTIMEZONE
BEGIN:VEVENT
DTSTART;VALUE=DATE:20300121
DTEND;VALUE=DATE:20300122
DTSTAMP:20260422T221946
CREATED:20241112T223638Z
LAST-MODIFIED:20251124T221752Z
UID:10000399-1895184000-1895270399@liuna1095.org
SUMMARY:MLK Day
DESCRIPTION:Day of Service
URL:https://liuna1095.org/event/mlk-day/2030-01-21/
LOCATION:Texas
END:VEVENT
BEGIN:VEVENT
DTSTART;TZID=America/Chicago:20300221T183000
DTEND;TZID=America/Chicago:20300221T200000
DTSTAMP:20260422T221946
CREATED:20241011T180939Z
LAST-MODIFIED:20251112T155716Z
UID:10000328-1897929000-1897934400@liuna1095.org
SUMMARY:Laborers 1095 Union Meeting
DESCRIPTION:
URL:https://liuna1095.org/event/laborers-1095-union-meeting/2030-02-21/
LOCATION:Local 1095 Union Hall – San Antonio\, 8814 Tradeway St\, San Antonio\, Texas\, 78217
ATTACH;FMTTYPE=image/png:https://liuna1095.org/wp-content/uploads/2024/10/Local1095logo.png
END:VEVENT
BEGIN:VEVENT
DTSTART;VALUE=DATE:20300317
DTEND;VALUE=DATE:20300318
DTSTAMP:20260422T221946
CREATED:20241112T223821Z
LAST-MODIFIED:20251112T160107Z
UID:10000379-1899936000-1900022399@liuna1095.org
SUMMARY:St. Patrick's Day
DESCRIPTION:
URL:https://liuna1095.org/event/st-patricks-day/2030-03-17/
LOCATION:Texas
END:VEVENT
BEGIN:VEVENT
DTSTART;TZID=America/Chicago:20300321T183000
DTEND;TZID=America/Chicago:20300321T200000
DTSTAMP:20260422T221946
CREATED:20241011T180939Z
LAST-MODIFIED:20251112T155716Z
UID:10000329-1900348200-1900353600@liuna1095.org
SUMMARY:Laborers 1095 Union Meeting
DESCRIPTION:
URL:https://liuna1095.org/event/laborers-1095-union-meeting/2030-03-21/
LOCATION:Local 1095 Union Hall – San Antonio\, 8814 Tradeway St\, San Antonio\, Texas\, 78217
ATTACH;FMTTYPE=image/png:https://liuna1095.org/wp-content/uploads/2024/10/Local1095logo.png
END:VEVENT
BEGIN:VEVENT
DTSTART;TZID=America/Chicago:20300418T183000
DTEND;TZID=America/Chicago:20300418T200000
DTSTAMP:20260422T221946
CREATED:20241011T180939Z
LAST-MODIFIED:20251112T155716Z
UID:10000330-1902767400-1902772800@liuna1095.org
SUMMARY:Laborers 1095 Union Meeting
DESCRIPTION:
URL:https://liuna1095.org/event/laborers-1095-union-meeting/2030-04-18/
LOCATION:Local 1095 Union Hall – San Antonio\, 8814 Tradeway St\, San Antonio\, Texas\, 78217
ATTACH;FMTTYPE=image/png:https://liuna1095.org/wp-content/uploads/2024/10/Local1095logo.png
END:VEVENT
BEGIN:VEVENT
DTSTART;VALUE=DATE:20300512
DTEND;VALUE=DATE:20300513
DTSTAMP:20260422T221946
CREATED:20241112T223912Z
LAST-MODIFIED:20251124T221713Z
UID:10000394-1904774400-1904860799@liuna1095.org
SUMMARY:Mother's Day
DESCRIPTION:
URL:https://liuna1095.org/event/mothers-day/2030-05-12/
LOCATION:Texas
END:VEVENT
BEGIN:VEVENT
DTSTART;TZID=America/Chicago:20300516T183000
DTEND;TZID=America/Chicago:20300516T200000
DTSTAMP:20260422T221946
CREATED:20241011T180939Z
LAST-MODIFIED:20251112T155716Z
UID:10000331-1905186600-1905192000@liuna1095.org
SUMMARY:Laborers 1095 Union Meeting
DESCRIPTION:
URL:https://liuna1095.org/event/laborers-1095-union-meeting/2030-05-16/
LOCATION:Local 1095 Union Hall – San Antonio\, 8814 Tradeway St\, San Antonio\, Texas\, 78217
ATTACH;FMTTYPE=image/png:https://liuna1095.org/wp-content/uploads/2024/10/Local1095logo.png
END:VEVENT
BEGIN:VEVENT
DTSTART;VALUE=DATE:20300527
DTEND;VALUE=DATE:20300528
DTSTAMP:20260422T221946
CREATED:20241112T223938Z
LAST-MODIFIED:20251112T160041Z
UID:10000374-1906070400-1906156799@liuna1095.org
SUMMARY:Memorial Day
DESCRIPTION:
URL:https://liuna1095.org/event/memorial-day/2030-05-27/
LOCATION:Texas
END:VEVENT
BEGIN:VEVENT
DTSTART;VALUE=DATE:20300616
DTEND;VALUE=DATE:20300617
DTSTAMP:20260422T221946
CREATED:20241112T224007Z
LAST-MODIFIED:20251124T221645Z
UID:10000389-1907798400-1907884799@liuna1095.org
SUMMARY:Father's Day
DESCRIPTION:
URL:https://liuna1095.org/event/fathers-day/2030-06-16/
LOCATION:Texas
END:VEVENT
BEGIN:VEVENT
DTSTART;VALUE=DATE:20300619
DTEND;VALUE=DATE:20300620
DTSTAMP:20260422T221946
CREATED:20241112T224039Z
LAST-MODIFIED:20251112T160013Z
UID:10000369-1908057600-1908143999@liuna1095.org
SUMMARY:Juneteenth
DESCRIPTION:
URL:https://liuna1095.org/event/juneteenth/2030-06-19/
LOCATION:Texas
END:VEVENT
BEGIN:VEVENT
DTSTART;TZID=America/Chicago:20300620T183000
DTEND;TZID=America/Chicago:20300620T200000
DTSTAMP:20260422T221946
CREATED:20241011T180939Z
LAST-MODIFIED:20251112T155716Z
UID:10000332-1908210600-1908216000@liuna1095.org
SUMMARY:Laborers 1095 Union Meeting
DESCRIPTION:
URL:https://liuna1095.org/event/laborers-1095-union-meeting/2030-06-20/
LOCATION:Local 1095 Union Hall – San Antonio\, 8814 Tradeway St\, San Antonio\, Texas\, 78217
ATTACH;FMTTYPE=image/png:https://liuna1095.org/wp-content/uploads/2024/10/Local1095logo.png
END:VEVENT
BEGIN:VEVENT
DTSTART;VALUE=DATE:20300704
DTEND;VALUE=DATE:20300705
DTSTAMP:20260422T221946
CREATED:20241112T224108Z
LAST-MODIFIED:20251112T155949Z
UID:10000364-1909353600-1909439999@liuna1095.org
SUMMARY:Independence Day
DESCRIPTION:
URL:https://liuna1095.org/event/independence-day/2030-07-04/
LOCATION:Texas
END:VEVENT
BEGIN:VEVENT
DTSTART;TZID=America/Chicago:20300718T183000
DTEND;TZID=America/Chicago:20300718T200000
DTSTAMP:20260422T221946
CREATED:20241011T180939Z
LAST-MODIFIED:20251112T155716Z
UID:10000333-1910629800-1910635200@liuna1095.org
SUMMARY:Laborers 1095 Union Meeting
DESCRIPTION:
URL:https://liuna1095.org/event/laborers-1095-union-meeting/2030-07-18/
LOCATION:Local 1095 Union Hall – San Antonio\, 8814 Tradeway St\, San Antonio\, Texas\, 78217
ATTACH;FMTTYPE=image/png:https://liuna1095.org/wp-content/uploads/2024/10/Local1095logo.png
END:VEVENT
BEGIN:VEVENT
DTSTART;TZID=America/Chicago:20300815T183000
DTEND;TZID=America/Chicago:20300815T200000
DTSTAMP:20260422T221946
CREATED:20241011T180939Z
LAST-MODIFIED:20251112T155716Z
UID:10000334-1913049000-1913054400@liuna1095.org
SUMMARY:Laborers 1095 Union Meeting
DESCRIPTION:
URL:https://liuna1095.org/event/laborers-1095-union-meeting/2030-08-15/
LOCATION:Local 1095 Union Hall – San Antonio\, 8814 Tradeway St\, San Antonio\, Texas\, 78217
ATTACH;FMTTYPE=image/png:https://liuna1095.org/wp-content/uploads/2024/10/Local1095logo.png
END:VEVENT
BEGIN:VEVENT
DTSTART;VALUE=DATE:20300902
DTEND;VALUE=DATE:20300903
DTSTAMP:20260422T221946
CREATED:20241112T224139Z
LAST-MODIFIED:20251112T155923Z
UID:10000359-1914537600-1914623999@liuna1095.org
SUMMARY:Labor Day
DESCRIPTION:
URL:https://liuna1095.org/event/labor-day/2030-09-02/
LOCATION:Texas
END:VEVENT
BEGIN:VEVENT
DTSTART;TZID=America/Chicago:20300919T183000
DTEND;TZID=America/Chicago:20300919T200000
DTSTAMP:20260422T221946
CREATED:20241011T180939Z
LAST-MODIFIED:20251112T155716Z
UID:10000335-1916073000-1916078400@liuna1095.org
SUMMARY:Laborers 1095 Union Meeting
DESCRIPTION:
URL:https://liuna1095.org/event/laborers-1095-union-meeting/2030-09-19/
LOCATION:Local 1095 Union Hall – San Antonio\, 8814 Tradeway St\, San Antonio\, Texas\, 78217
ATTACH;FMTTYPE=image/png:https://liuna1095.org/wp-content/uploads/2024/10/Local1095logo.png
END:VEVENT
BEGIN:VEVENT
DTSTART;TZID=America/Chicago:20301017T183000
DTEND;TZID=America/Chicago:20301017T200000
DTSTAMP:20260422T221946
CREATED:20241011T180939Z
LAST-MODIFIED:20251112T155716Z
UID:10000336-1918492200-1918497600@liuna1095.org
SUMMARY:Laborers 1095 Union Meeting
DESCRIPTION:
URL:https://liuna1095.org/event/laborers-1095-union-meeting/2030-10-17/
LOCATION:Local 1095 Union Hall – San Antonio\, 8814 Tradeway St\, San Antonio\, Texas\, 78217
ATTACH;FMTTYPE=image/png:https://liuna1095.org/wp-content/uploads/2024/10/Local1095logo.png
END:VEVENT
BEGIN:VEVENT
DTSTART;VALUE=DATE:20301031
DTEND;VALUE=DATE:20301101
DTSTAMP:20260422T221946
CREATED:20241112T224326Z
LAST-MODIFIED:20251112T155902Z
UID:10000354-1919635200-1919721599@liuna1095.org
SUMMARY:Halloween
DESCRIPTION:
URL:https://liuna1095.org/event/halloween/2030-10-31/
LOCATION:Texas
END:VEVENT
BEGIN:VEVENT
DTSTART;VALUE=DATE:20301111
DTEND;VALUE=DATE:20301112
DTSTAMP:20260422T221946
CREATED:20241112T224303Z
LAST-MODIFIED:20251112T155839Z
UID:10000349-1920585600-1920671999@liuna1095.org
SUMMARY:Veterans Day
DESCRIPTION:
URL:https://liuna1095.org/event/veterans-day-2/2030-11-11/
LOCATION:Texas
END:VEVENT
END:VCALENDAR